BEGIN:VCALENDAR
PRODID:-//eluceo/ical//2.0/EN
VERSION:2.0
CALSCALE:GREGORIAN
PRODID:www.soundtransit.org
BEGIN:VEVENT
UID:7e4ce47f52cc71fa116cc1f0b87c8760
DTSTAMP:20260425T024827Z
SUMMARY:Mariners vs. Arizona Diamondbacks
DESCRIPTION:https://www.soundtransit.org/get-to-know-us/news-events/calenda
 r/mariners-vs-arizona-diamondbacks-2024-04-28
DTSTART:20240428T201000Z
DTEND:20240428T230000Z
LOCATION:T-Mobile Park - 1250 1st Avenue South  Seattle WA 98134
END:VEVENT
END:VCALENDAR
