BEGIN:VCALENDAR
PRODID:-//eluceo/ical//2.0/EN
VERSION:2.0
CALSCALE:GREGORIAN
PRODID:www.soundtransit.org
BEGIN:VEVENT
UID:83dd3d7ddb60e2dc894c330fd8f12c1b
DTSTAMP:20260425T183407Z
SUMMARY:Executive Committee Meeting 
DESCRIPTION:https://www.soundtransit.org/get-to-know-us/news-events/calenda
 r/executive-committee-meeting-2025-03-06
DTSTART:20250306T183000Z
DTEND:20250306T200000Z
LOCATION:Union Station\, Ruth Fisher Board Room - 401 S. Jackson St.  Seatt
 le WA 98104
END:VEVENT
END:VCALENDAR
