BEGIN:VCALENDAR
PRODID:-//eluceo/ical//2.0/EN
VERSION:2.0
CALSCALE:GREGORIAN
PRODID:www.soundtransit.org
BEGIN:VEVENT
UID:fde98418c992fff3eca21513a9e17f69
DTSTAMP:20260423T201217Z
SUMMARY:Rider Experience and Operations Committee Meeting 
DESCRIPTION:https://www.soundtransit.org/get-to-know-us/news-events/calenda
 r/rider-experience-operations-committee-meeting-2026-02-05
DTSTART:20260205T210000Z
DTEND:20260205T230000Z
LOCATION:Union Station\, Ruth Fisher Board Room - 401 S. Jackson St.  Seatt
 le WA 98104
END:VEVENT
END:VCALENDAR
