BEGIN:VCALENDAR
PRODID:-//eluceo/ical//2.0/EN
VERSION:2.0
CALSCALE:GREGORIAN
PRODID:www.soundtransit.org
BEGIN:VEVENT
UID:4a4d0ba05819f2964d41302874481238
DTSTAMP:20260425T025617Z
SUMMARY:Mariners vs. Houston Astros
DESCRIPTION:https://www.soundtransit.org/get-to-know-us/news-events/calenda
 r/mariners-vs-houston-astros-2026-04-12
DTSTART:20260412T201000Z
DTEND:20260412T230000Z
END:VEVENT
END:VCALENDAR
