BEGIN:VCALENDAR
PRODID:-//eluceo/ical//2.0/EN
VERSION:2.0
CALSCALE:GREGORIAN
PRODID:www.soundtransit.org
BEGIN:VEVENT
UID:f2c9bd375ef8a8bcee240dad7d8be8de
DTSTAMP:20260420T083544Z
SUMMARY:Finance and Audit Committee Meeting 
DESCRIPTION:https://www.soundtransit.org/get-to-know-us/news-events/calenda
 r/finance-audit-committee-meeting-2026-10-08
DTSTART:20261008T173000Z
DTEND:20261008T190000Z
LOCATION:Union Station\, Ruth Fisher Board Room - 401 S. Jackson St.  Seatt
 le WA 98104
END:VEVENT
END:VCALENDAR
