BEGIN:VCALENDAR
PRODID:-//eluceo/ical//2.0/EN
VERSION:2.0
CALSCALE:GREGORIAN
PRODID:www.soundtransit.org
BEGIN:VEVENT
UID:83b43034bc85ae22b82e7364d60abb5b
DTSTAMP:20260421T092642Z
SUMMARY:System Expansion Committee Meeting 9/12/19
DESCRIPTION:https://www.soundtransit.org/get-to-know-us/news-events/calenda
 r/system-expansion-committee-meeting-9-12-19-2019-09-12
DTSTART:20190912T203000Z
DTEND:20190912T230000Z
LOCATION:Union Station\, Ruth Fisher Board Room - 401 S. Jackson St.  Seatt
 le WA 98104
END:VEVENT
END:VCALENDAR
