BEGIN:VCALENDAR
PRODID:-//eluceo/ical//2.0/EN
VERSION:2.0
CALSCALE:GREGORIAN
PRODID:www.soundtransit.org
BEGIN:VEVENT
UID:eff7143cb97df610f22ff55d066093a0
DTSTAMP:20260421T192121Z
SUMMARY:Storm vs. Phoenix Mercury
DESCRIPTION:https://www.soundtransit.org/get-to-know-us/news-events/calenda
 r/storm-vs-phoenix-mercury-2019-05-25
DTSTART:20190525T193000Z
DTEND:20190525T223000Z
END:VEVENT
END:VCALENDAR
