BEGIN:VCALENDAR
PRODID:-//eluceo/ical//2.0/EN
VERSION:2.0
CALSCALE:GREGORIAN
PRODID:www.soundtransit.org
BEGIN:VEVENT
UID:4fb6c1d4984d6b7d13042761d55fd9eb
DTSTAMP:20260423T095516Z
SUMMARY:Seahawks vs. Tampa Bay Buccaneers
DESCRIPTION:https://www.soundtransit.org/get-to-know-us/news-events/calenda
 r/seahawks-vs-tampa-bay-buccaneers-2019-11-03
DTSTART:20191103T210500Z
DTEND:20191104T000500Z
LOCATION:Lumen Field - 800 Occidental Ave S  Seattle WA 98134
END:VEVENT
END:VCALENDAR
