BEGIN:VCALENDAR
PRODID:-//eluceo/ical//2.0/EN
VERSION:2.0
CALSCALE:GREGORIAN
PRODID:www.soundtransit.org
BEGIN:VEVENT
UID:76e79e93f978b12d11d3fe37f95d311f
DTSTAMP:20260425T155822Z
SUMMARY:Citizen Oversight Panel Meeting
DESCRIPTION:https://www.soundtransit.org/get-to-know-us/news-events/calenda
 r/citizen-oversight-panel-meeting-2019-08-29
DTSTART:20190829T153000Z
DTEND:20190829T180000Z
LOCATION:Santa Fe Room - 401 S. Jackson St.  Seattle WA 98104
END:VEVENT
END:VCALENDAR
