BEGIN:VCALENDAR
PRODID:-//eluceo/ical//2.0/EN
VERSION:2.0
CALSCALE:GREGORIAN
PRODID:www.soundtransit.org
BEGIN:VEVENT
UID:a133bb6ab1ce104928156af9608b3958
DTSTAMP:20260423T180337Z
SUMMARY:Finance and Audit Committee Meeting
DESCRIPTION:https://www.soundtransit.org/get-to-know-us/news-events/calenda
 r/finance-audit-committee-meeting-2020-03-19
DTSTART:20200319T180000Z
DTEND:20200319T193000Z
END:VEVENT
END:VCALENDAR
