BEGIN:VCALENDAR
PRODID:-//eluceo/ical//2.0/EN
VERSION:2.0
CALSCALE:GREGORIAN
PRODID:www.soundtransit.org
BEGIN:VEVENT
UID:2e289d38327b29e338dd7dad5a9aea01
DTSTAMP:20260425T104035Z
SUMMARY:Executive Committee Meeting
DESCRIPTION:https://www.soundtransit.org/get-to-know-us/news-events/calenda
 r/executive-committee-meeting-2021-05-06
DTSTART:20210506T173000Z
DTEND:20210506T190000Z
END:VEVENT
END:VCALENDAR
