BEGIN:VCALENDAR
PRODID:-//eluceo/ical//2.0/EN
VERSION:2.0
CALSCALE:GREGORIAN
PRODID:www.soundtransit.org
BEGIN:VEVENT
UID:f0f81ce34c415d04b9af68161c925ffd
DTSTAMP:20260421T132850Z
SUMMARY:Executive Committee Meeting
DESCRIPTION:https://www.soundtransit.org/get-to-know-us/news-events/calenda
 r/executive-committee-meeting-2021-07-01
DTSTART:20210701T173000Z
DTEND:20210701T190000Z
END:VEVENT
END:VCALENDAR
