BEGIN:VCALENDAR
PRODID:-//eluceo/ical//2.0/EN
VERSION:2.0
CALSCALE:GREGORIAN
PRODID:www.soundtransit.org
BEGIN:VEVENT
UID:04a17e260a8fafb0fb5f9abb3001e4ff
DTSTAMP:20260421T073257Z
SUMMARY:Mariners vs. Houston Astros
DESCRIPTION:https://www.soundtransit.org/get-to-know-us/news-events/calenda
 r/mariners-vs-houston-astros-2022-07-24
DTSTART:20220724T201000Z
DTEND:20220724T231000Z
LOCATION:T-Mobile Park - 1250 1st Avenue South  Seattle WA 98134
END:VEVENT
END:VCALENDAR
