BEGIN:VCALENDAR
PRODID:-//eluceo/ical//2.0/EN
VERSION:2.0
CALSCALE:GREGORIAN
PRODID:www.soundtransit.org
BEGIN:VEVENT
UID:0581a46e4984eea2713b047143018253
DTSTAMP:20260421T015235Z
SUMMARY:System Expansion Committee Meeting
DESCRIPTION:https://www.soundtransit.org/get-to-know-us/news-events/calenda
 r/system-expansion-committee-meeting-2023-02-09
DTSTART:20230209T210000Z
DTEND:20230210T010000Z
LOCATION:Union Station\, Ruth Fisher Board Room - 401 S. Jackson St.  Seatt
 le WA 98104
END:VEVENT
END:VCALENDAR
