BEGIN:VCALENDAR
PRODID:-//eluceo/ical//2.0/EN
VERSION:2.0
CALSCALE:GREGORIAN
PRODID:www.soundtransit.org
BEGIN:VEVENT
UID:e3115201a6667693bec7e083f835e074
DTSTAMP:20260419T203131Z
SUMMARY:MLB Home Run Derby
DESCRIPTION:https://www.soundtransit.org/get-to-know-us/news-events/calenda
 r/mlb-home-run-derby-2023-07-10
DTSTART:20230711T000000Z
DTEND:20230711T030000Z
LOCATION:T-Mobile Park - 1250 1st Avenue South  Seattle WA 98134
END:VEVENT
END:VCALENDAR
