BEGIN:VCALENDAR
PRODID:-//eluceo/ical//2.0/EN
VERSION:2.0
CALSCALE:GREGORIAN
PRODID:www.soundtransit.org
BEGIN:VEVENT
UID:87fc58e6106081ece81d8664af54cbec
DTSTAMP:20260421T190130Z
SUMMARY:West Seattle Link Extension: White Center Block Party information b
 ooth
DESCRIPTION:https://www.soundtransit.org/get-to-know-us/news-events/calenda
 r/west-seattle-link-extension-white-center-block-party
DTSTART:20230826T190000Z
DTEND:20230827T010000Z
END:VEVENT
END:VCALENDAR
