BEGIN:VCALENDAR
PRODID:-//eluceo/ical//2.0/EN
VERSION:2.0
CALSCALE:GREGORIAN
PRODID:www.soundtransit.org
BEGIN:VEVENT
UID:0de6a83b1ef1d6da87f4983c5a042e15
DTSTAMP:20260422T213122Z
SUMMARY:West Seattle Link Extension: SODO Flea Market information booth
DESCRIPTION:https://www.soundtransit.org/get-to-know-us/news-events/calenda
 r/west-seattle-link-extension-sodo-flea-market-information-booth
DTSTART:20230909T170000Z
DTEND:20230909T230000Z
END:VEVENT
END:VCALENDAR
